Workbook
Name да: [1]Лист2!$F$2:$F$3
Name табл: [1]Лист2!$A$2:$A$9

Sheet Инструкция
E2: Рейтинг ИТ компаний – лидеров технологического развития – 2025
A5: Аналитический центр «Эксперт» приглашает принять участие в федеральном рейтинге российских ИТ-компаний — лидеров технологического развития. Цель — на основе объективных данных оценить результаты деятельности ИТ-компаний в обеспечении технологического суверенитета и технологического лидерства страны в период 2022 — 2025 годов. Помимо основного рейтинга будет подготовлен субрейтинг («ИТ-компании — лидеры по сотрудничеству с университетами»), поскольку именно взаимодействия ИТ-компаний с университетами серьезно влияет на технологическое развитие страны. Под ИТ-компаниями в рамках настоящего проекта понимаются организации, зарегистрированные на территории России и занимающиеся следующими видами деятельности: - производство оборудования (компьютерное, офисное, коммуникационное, оборудование для передачи данных); - разработка программного обеспечения (ПО); - оказание услуг в области ИТ и телекоммуникаций; - кибербезопасность; - поставка оборудования и ПО в рамках интеграционных проектов.
A6: Участие в рейтинге позволит ИТ-компаниям: — заявить об успехах в области обеспечения технологического суверенитета на федеральном уровне; — показать уровень и качество взаимодействия с университетами. Итоги проекта будут опубликованы в журнале «Эксперт» (тираж 22 тыс. экземпляров) в мае 2026 года и на сайте expert.ru, а также представлены на конференции «Цифровая индустрия промышленной России» (г. Нижний Новгород). Участникам будут вручены сертификаты
A7: Для участия в рейтинге необходимо заполнить анкету. После того, как анкета будет заполнена, пожалуйста, распечатайте, заверьте подписью руководителя или лица, ответственного за предоставляемые данные, и печатью организации «бланк подтверждения» (последний лист электронной анкеты) и отправьте скан-копию вместе с заполненной анкетой координатору проекта Ирине Тетеревой на электронную почту it@acexpert.ru. Анкеты принимаются до 27 февраля 2026 ГОДА.
A8: Далее просим вас заполнить все поля на листе "Анкета". По вопросам заполнения анкеты просьба писать ИринеТетеревой it@acexpert.ru

Sheet Анкета
A1: Электронная анкета для участия в рейтинге ИТ компаний – лидеров технологического развития – 2025 | D1: Заполните и отправьте до 27 февраля 2026 года: it@acexpert.ru (для Ирины Тетеревой) моб. +7 922 160 40 53
A2: Анкета состоит из 2 листов для заполнения: лист "Анкета", лист "Экспертный опрос". Заполняются только поля, не отмеченные цветом.
A3: Полное наименование компании
A4: ИНН компании
A5: Сайт компании
A6: Виды деятельности компании (отметить V) | C6: Основной | D6: Дополнительные
A7: производство оборудования (компьютерное, офисное, коммуникационное, оборудование для передачи данных)
A8: разработка программного обеспечения (ПО)
A9: оказание услуг в области ИТ и телекоммуникаций
A10: кибербезопасность
A11: поставка оборудования и ПО в рамках интеграционных проектов
A12: иное (указать вид деятельности)
A13: Должность, фамилия, имя и отчество лица, ответственного за заполнение анкеты | C13: Должность | D13: Ф.И.О.
C15: Телефон | D15: E-mail
A17: Показатели основного рейтинга («ИТ-компании — лидеры технологического развития»)
A18: Заполняются опционально. Данные собираются разработчиками рейтинга из открытых баз данных и верифицируются компанией-участником рейтинга. Если патенты/свидетельства на эл. разработки принадлежат аффилированным юрлицам - необходимо предоставить соотвествующую информацию для корректного учета позиции компании в рейтинге
A19: Информацию по показателям 1-5 Вы можете заполнить самостоятельно, либо Вы можете прислать информацию по наименованию головной компании и аффилированным лицам с указанием ИНН, и мы пришлем данные по этим показателям на верификацию
A20: 1. Количество заявок на патенты (2023-2025 гг.), ед. | C20: Наименование заявителя/заявителей (головная компания и аффилированные компании) с указанием ИНН | D20: заполняется компанией, если патенты принадлежат аффилированным юрлицам
A21: 2. Общее количество действующих патентов в портфеле компании (с учетом аффилированных лиц), на 01.01.2026, ед. | C21: Наименование патентообладателя/патентообладателей (головная компания и аффилированные компании) с указанием ИНН | D21: заполняется компанией, если патенты принадлежат аффилированным юрлицам
A22: 3. Количество свидетельств на электронные разработки (2023-2025 гг.), ед., в т.ч. | C22: Наименование правообладателей (головная компания и аффилированные компании) с указанием ИНН | D22: заполняется компанией, если свидетельства на электронные разработки принадлежат аффилированным юрлицам
A23: программы для ЭВМ
A24: базы данных
A25: топологии интегральных микросхем
A26: 4. Количество зарегистрированных в реестре программного обеспечения (https://reestr.digital.gov.ru/) ПО и ПАК, на 01.01.2026 , ед. | C26: Наименование правообладателей (головная компания и аффилированные компании) с указанием ИНН | D26: заполняется компанией, если правообладателями ПО и ПАК в реестре программного обеспечения являются аффилированные лица
A27: 5. Количество публикаций сотрудников компании в области компьютерных наук в журналах, индексируемых Scopus за 2023-2025 гг., ед.
A28: в т.ч. с участием университетов
A29: Показатели субрейтинга («ИТ-компании — лидеры по сотрудничеству с университетами»)
A30: Заполняются компанией самостоятельно
A31: 6. Объемы заказов на выполнение НИОКР в университетах и научно-исследовательских организациях РФ за 2023-2025 гг., млн руб. | C31: Перечень вузов, реализующих НИОКР
A32: 7. Количество совместных с университетами научно-исследовательских подразделений, на дату заполнения анкеты, ед. | C32: Ссылка для подтверждения / приложить подтверждающий документ
A33: 8. Число университетских программ высшего образования, на которые был осуществлен набор в 2025-2026 уч.году, партнером которых является ИТ-компания, ед. | C33: Ссылка для подтверждения / приложить подтверждающий документ
A34: 9. Количество обучающихся на университетских программах высшего образования, партнером которых является ИТ-компания, на дату заполнения анкеты, чел.
A35: 10. Объем средств, выделенных на развитие образовательных программ и инфраструктуры университетов, включая благотворительные пожертвования, вложения в эндаумент-фонд, передачу материальных ценностей за 2023-2025 гг., млн руб.
A36: 11. Количество студентов вузов, прошедших программы акселераторов вузов, где компания выступает партнером или заказчиком, 2023-2024 уч.год, чел.
A37: 12. Количество студентов вузов, прошедших программы акселераторов вузов, где компания выступает партнером или заказчиком, 2024-2025 гг.уч.год, чел.
A38: 13. Общее количество договоров гражданско-правового характера со специалистами компании в качестве преподавателей для образовательных программ, а также в качестве спикеров/менторов акселерационных программ, 2023-2024 уч.год, ед.
A39: 14. Общее количество договоров гражданско-правового характера со специалистами компании в качестве преподавателей для образовательных программ, а также в качестве спикеров/менторов акселерационных программ, 2024-2025 уч.год, ед.
A40: Пожалуйста, перейдите к заполнению следующего листа

Sheet Экспертный  опрос
A1: Экспертный опрос (этот лист является желательным для заполнения)
A2: Приглашаем Вас выступить экспертами нашего проекта. Для этого ответьте, пожалуйста, на предлагаемые вопросы. Постарайтесь ответить на вопросы максимально полно (лучше ответить полно на несколько вопросов, чем на все понемногу). Только наиболее полные и интересные комментарии войдут в итоговую публикацию. Окончательный текст, после редактирования перед публикацией будет согласован с Вами.
A3: 1. Каковы результаты замещения ушедших в российского рынка решений в тех сегментах, в которых работает ваша компания?
A4: 2. Какой потенциал дальнейшего расширения на российском рынке и вывода продуктов и решений на зарубежные рынки?
A5: 3. Каковы основные сложности, риски, с которыми ваша компания сталкивается на этом пути - нормативно-правовые, финансовые, технологические и др.? В чем нужна поддержка от государства?
A6: 4. Насколько серьезно изменение макроэкономической и налоговой ситуации повлияет на развитие ИТ-отрасли и, конкретно, вашей компании в 2026-2027 гг.?
A7: 5. В чем ваша компания видит для себя основные перспективы и выгоды от сотрудничества с университетами? Каковы масштабы этого сотрудничества в различных областях - научно-технологической, образовательной, как они изменились (если изменились), начиная с 2022 года?
A8: НА ВОПРОСЫ ОТВЕЧАЛ: ФИО, должность, контактный телефон, e-mail
A9: После того, как эта таблица будет заполнена, пожалуйста, отправьте файл на адрес it@acexpert.ru до 27 февраля 2026 года
A10: Благодарим Вас за участие в проекте!

Sheet Бланк подтверждения
A1: Куда: Аналитический центр «Эксперт»
A2: От кого: | B2: =Анкета!B3 -> 0
A3: Cкан-копию на адрес: it@acexpert.ru
A4: БЛАНК ПОДТВЕРЖДЕНИЯ
A5: Рейтинг ИТ компаний – лидеров технологического развития – 2025
A6: Количество заявок на патенты (2023-2025 гг.), ед. | C6: =Анкета!B20 -> 0
A7: Общее количество действующих патентов в портфеле компании (с учетом аффилированных лиц), на дату заполнения анкеты, ед. | C7: =Анкета!B21 -> 0
A8: Количество свидетельств на электронные разработки, ед., в т.ч. | C8: =Анкета!B22 -> 0
A9: программы для ЭВМ | C9: =Анкета!B23 -> 0
A10: базы данных | C10: =Анкета!B24 -> 0
A11: топологии интегральных микросхем | C11: =Анкета!B25 -> 0
A12: Количество зарегистрированных в реестре программного обеспечения (https://reestr.digital.gov.ru/) ПО и ПАК, ед. | C12: =Анкета!B26 -> 0
A13: Количество публикаций сотрудников компании в области компьютерных наук в журналах, индексируемых Scopus за 2023-2025 гг., ед. | C13: =Анкета!B27 -> 0
A14: в т.ч. с участием университетов | C14: =Анкета!B28 -> 0
A15: Субрейтинг «ИТ-компании — лидеры по сотрудничеству с университетами»
A16: Объемы заказов на выполнение НИОКР в университетах и научно-исследовательских организациях РФ за 2023-2025 гг., млн руб. | C16: =Анкета!B31 -> 0
A17: Количество совместных с университетами научно-исследовательских подразделений, на дату заполнения анкеты, ед. | C17: =Анкета!B32 -> 0
A18: Число университетских программ высшего образования, на которые был осуществлен набор в 2025-2026 уч.году, партнером которых является ИТ-компания, ед. | C18: =Анкета!B33 -> 0
A19: Количество обучающихся на университетских программах высшего, партнером которых является ИТ-компания, на дату заполнения анкеты, чел. | C19: =Анкета!B34 -> 0
A20: Объем средств, выделенных на развитие образовательных программ и инфраструктуры университетов, включая благотворительные пожертвования, вложения в эндаумент-фонд, передачу материальных ценностей за 2023-2025 гг., млн руб. | C20: =Анкета!B35 -> 0
A21: Количество студентов вузов, прошедших программы акселераторов вузов, где компания выступает партнером или заказчиком, 2023-2024 уч.год, чел. | C21: =Анкета!B36 -> 0
A22: Количество студентов вузов, прошедших программы акселераторов вузов, где компания выступает партнером или заказчиком, 2024-2025 гг.уч.год, чел. | C22: =Анкета!B37 -> 0
A23: Общее количество договоров гражданско-правового характера со специалистами компании в качестве преподавателей для образовательных программ, а также в качестве спикеров/менторов акселерационных программ, 2023-2024 уч.год, ед. | C23: =Анкета!B38 -> 0
A24: Общее количество договоров гражданско-правового характера со специалистами компании в качестве преподавателей для образовательных программ, а также в качестве спикеров/менторов акселерационных программ, 2024-2025 уч.год, ед. | C24: =Анкета!B39 -> 0
A25: Подтверждает достоверность данных (указанных в настоящей электронной анкете), переданных в адрес Аналитического центра «Эксперт»
A26: Лицо, подтверждающее данные (заполняется автоматически):
A27: =Анкета!D14 -> 0
A29: (Должность)
A30: =Анкета!C14 -> 0
A32: (ФИО)
A33: _______________________________
A34: (подпись) | B34: (Дата заполнения)
A36: М.П.
